BEGIN:VCALENDAR
VERSION:2.0
PRODID:-//Library Market//iCal Export//EN
BEGIN:VEVENT
SUMMARY:A Look Back at 1926
UID:4951
DTSTAMP:20260423T171700Z
DTSTART:20260811T200000Z
DTEND:20260811T211500Z
LOCATION:201 Pondfield Road, Bronxville, NY 10708, United States
ROOM: Yeager Community Room
DESCRIPTION:Speaker Evan Weiner will transport us back in time and discuss
  what was going on 100 years ago in 1926. Itâ€™s the Jazz Age and speakeas
 ies are the rage as Americans want alcohol. The American economy is hummin
 g for the wealthy class but not so much for lower- and middle-class worker
 s. There is a General Strike in the United Kingdom, Henry Ford introduces 
 the 40-hour work week. Gertrude Ederle swims the English Channel. A new Am
 erican radio network starts, NBC, the first rocket is launched. Willie the
  Pooh and Mary Poppins make their first appearances.Presented by: Â Evan W
 einer is a speaker and author with a radio and TV background.Â He has abou
 t 90 topics and has spoken globally.Â  Evan was a contributing columnist f
 orÂ New York NewsdayÂ (2001-05);Â AM-New York, theÂ New York Press,Â the B
 ergen (New Jersey) Record, theÂ Philadelphia Metro,Â Washington Examiner,Â
  Orlando Sentinel,Â Rhode Islandâ€™s Sports Journal, and forÂ The Chicago 
 Tribuneâ€™s Spanish Hoy!Â newspapers in N.Y., Chicago and LA between 2002.
 Â  Learn more about Evan by visiting his website:Â https://evanweiner16177
 3949.wordpress.com/
URL:https://bronxvillepl.librarycalendar.com/event/look-back-1926-4951
END:VEVENT
END:VCALENDAR
