BEGIN:VCALENDAR
VERSION:2.0
PRODID:-//Library Market//iCal Export//EN
BEGIN:VEVENT
SUMMARY:Adult Craft Program
UID:4905
DTSTAMP:20260422T224800Z
DTSTART:20260507T173000Z
DTEND:20260507T184500Z
LOCATION:201 Pondfield Road, Bronxville, NY 10708, United States
ROOM: Yeager Community Room
DESCRIPTION:This month we will create  a felt flower centerpiece.  Pleas
 e note that this project requires the use of a hot glue gun.
URL:https://bronxvillepl.librarycalendar.com/event/adult-craft-program-490
 5
END:VEVENT
END:VCALENDAR
