BEGIN:VCALENDAR
VERSION:2.0
PRODID:-//Library Market//iCal Export//EN
BEGIN:VEVENT
SUMMARY:Colorful World of Math: Using Art for Math Problem Solving
UID:4874
DTSTAMP:20260419T212500Z
DTSTART:20260623T203000Z
DTEND:20260623T213000Z
LOCATION:201 Pondfield Road, Bronxville, NY 10708, United States
ROOM: Yeager Community Room
DESCRIPTION:Art-based activities to help build Math skills-butterfly symme
 try painting-fraction pizzas -creating shape creatures,-pattern bracelet
 s Registered participants will receive a free workbook to take home!Prese
 nted by Dr. Emily Emily-Gutter and her twin daughters, who are very passi
 onate about helping other kids and teens build stronger financial literacy
  skills
URL:https://bronxvillepl.librarycalendar.com/event/colorful-world-math-usi
 ng-art-math-problem-solving-4874
END:VEVENT
END:VCALENDAR
