BEGIN:VCALENDAR
VERSION:2.0
PRODID:-//Library Market//iCal Export//EN
BEGIN:VEVENT
SUMMARY:Drum Hands Performance with Ernesto
UID:4828
DTSTAMP:20260419T212500Z
DTSTART:20260713T153000Z
DTEND:20260713T160000Z
LOCATION:201 Pondfield Rd, Bronxville, NY 10708, United States
ROOM: Patio
DESCRIPTION:Drum Hands Performance and Singalong with Ernesto of Song and 
 BeatAll Ages Welcome to come dance and sing on our Library Patio!Weather p
 ermitting, otherwise event will be moved into the Yeager room,  seating c
 apacity is strictly enforced.No strollers in Yeager room
URL:https://bronxvillepl.librarycalendar.com/event/drum-hands-performance-
 ernesto-4828
END:VEVENT
END:VCALENDAR
