BEGIN:VCALENDAR
VERSION:2.0
PRODID:-//Library Market//iCal Export//EN
BEGIN:VEVENT
SUMMARY:Summer Reading: Dig it up Dino!
UID:4086
DTSTAMP:20260419T212500Z
DTSTART:20260630T183000Z
DTEND:20260630T191500Z
LOCATION:201 Pondfield Road, Bronxville, NY 10708, United States
ROOM: Yeager Community Room
DESCRIPTION:A hands-on science lesson, this dinosaur dig set lets kids exp
 erience the excitement of discovery like a real paleontologist, then learn
  how to identify each dinosaur using the Excavation Guide.Children enterin
 g 1st through 5th grade in the fall of 2026 are welcome to register .
URL:https://bronxvillepl.librarycalendar.com/event/summer-reading-dig-it-d
 inos-4086
END:VEVENT
END:VCALENDAR
